BEGIN:VCALENDAR
VERSION:2.0
PRODID:icalendar-ruby
CALSCALE:GREGORIAN
METHOD:PUBLISH
BEGIN:VEVENT
DTSTAMP:20260423T122530Z
UID:24-1251933@unityofsa.org
DTSTART:20260426T193000Z
DTEND:20260426T203000Z
CLASS:PUBLIC
CREATED:20260417T155001
DESCRIPTION:Let's team up for a cleaner\, greener environment! Come with id
 eas\, projects\, your pet passions to support Mother Earth!
LAST-MODIFIED:20260417T155001
LOCATION:8103 Broadway San Antonio\, TX 78209
SUMMARY:Earthcare Meeting
URL;VALUE=URI:https://unityofsa.org/events/earthcare-meeting/2026-04-26
ATTACH;FILENAME=Techno-Party-Facebook-Event-Cover-Photo-%2839%29.png;FMTTYP
 E=image/png:https://dq5pwpg1q8ru0.cloudfront.net/2025/09/05/05/08/49/ce36d
 e79-24d2-4eb9-acfa-ccdc0e2ad860/Techno-Party-Facebook-Event-Cover-Photo-%2
 52839%2529.png
END:VEVENT
END:VCALENDAR
