BEGIN:VCALENDAR
VERSION:2.0
PRODID:icalendar-ruby
CALSCALE:GREGORIAN
METHOD:PUBLISH
BEGIN:VEVENT
DTSTAMP:20260421T152759Z
UID:77-1251927@unityofsa.org
DTSTART:20260422T170000Z
DTEND:20260422T190000Z
CLASS:PUBLIC
CREATED:20260417T154455
DESCRIPTION:Join us at the Historic Eastside Cemeteries for a community-wid
 e cleanup with volunteers across Bexar County. Let’s come together to se
 rve\, connect\, and make a visible difference.\n 
LAST-MODIFIED:20260417T154455
LOCATION:Historic Eastside Cemeteries
SUMMARY:Earthday Trash Pickup
URL;VALUE=URI:https://unityofsa.org/events/earthday-trash-pickup/2026-04-22
ATTACH;FILENAME=WebsiteFB-Event-Template-51.png;FMTTYPE=image/png:https://d
 q5pwpg1q8ru0.cloudfront.net/2026/04/17/22/43/44/0183955d-c11d-4016-b3ac-e1
 51ea5b2339/WebsiteFB-Event-Template-51.png
END:VEVENT
END:VCALENDAR
